BEGIN:VCALENDAR
VERSION:2.0
PRODID:-//CERN//INDICO//EN
BEGIN:VEVENT
SUMMARY:Status of the MUonE experiment
DTSTART:20260430T090000Z
DTEND:20260430T100000Z
DTSTAMP:20260425T152100Z
UID:indico-event-1588@indico.ifj.edu.pl
DESCRIPTION:Speakers: Marcin Kucharczyk (IFJ PAN)\n\nThe current theoretic
 al prediction of the anomalous magnetic moment of the muon (aμ) in the St
 andard Model reveals ~5σ discrepancy when compared to experimental result
 s. The primary source of uncertainty in the muon anomaly lies in the leadi
 ng hadronic contribution to the theoretical prediction of aμ and is expec
 ted to be the main limitation in any potential discovery. The MUonE experi
 ment proposes a novel approach to precisely evaluate this hadronic contrib
 ution\, aiming to increase the significance of the observed discrepancy. T
 he experimental method relies on precisely measuring the of hadronic contr
 ibution to aμ in the space-like momentum region through the μe → μe e
 lastic scatteringprocess.\n\nhttps://indico.ifj.edu.pl/event/1588/
URL:https://indico.ifj.edu.pl/event/1588/
END:VEVENT
END:VCALENDAR
