BEGIN:VCALENDAR
VERSION:2.0
PRODID:-//CERN//INDICO//EN
BEGIN:VEVENT
SUMMARY:What is it: long\, short and glows? Neutron dosimetry using lithiu
 m fluoride fluorescent nuclear track detectors
DTSTART:20260401T090000Z
DTEND:20260401T100000Z
DTSTAMP:20260419T201500Z
UID:indico-event-1577@indico.ifj.edu.pl
DESCRIPTION:Speakers: Małgorzata Sankowska (NZ63)\n\nhttps://indico.ifj.e
 du.pl/event/1577/
LOCATION:Aula (IFJ PAN)
URL:https://indico.ifj.edu.pl/event/1577/
END:VEVENT
END:VCALENDAR
