BEGIN:VCALENDAR
VERSION:2.0
PRODID:-//CERN//INDICO//EN
BEGIN:VEVENT
SUMMARY:Time resolved in situ XAS investigation of the Cu/Cu-oxide interfa
 ce in copper nanoparticles
DTSTART:20260318T100000Z
DTEND:20260318T110000Z
DTSTAMP:20260419T201500Z
UID:indico-event-1561@indico.ifj.edu.pl
DESCRIPTION:Speakers: Gabriela Imbir-Szewczyk (NZ53)\n\nhttps://indico.ifj
 .edu.pl/event/1561/
LOCATION:Aula (IFJ PAN)
URL:https://indico.ifj.edu.pl/event/1561/
END:VEVENT
END:VCALENDAR
