BEGIN:VCALENDAR
VERSION:2.0
PRODID:-//CERN//INDICO//EN
BEGIN:VEVENT
SUMMARY:From Collaboration to Oblivion: The Tragedy of Mileva Marić Einst
 ein
DTSTART:20260319T100000Z
DTEND:20260319T110000Z
DTSTAMP:20260425T152000Z
UID:indico-event-1560@indico.ifj.edu.pl
DESCRIPTION:Speakers: Pauline Gagnon\n\nWhat if Einstein's 1905 "miracle y
 ear" wasn't a solo achievement? Letters and biographical evidence reveal t
 hat Mileva Marić—Einstein's first wife and fellow physicist—was far m
 ore than a supportive spouse. She was his intellectual equal\, his study p
 artner\, and his collaborator on some of his most famous work.\nThis talk 
 examines the documented evidence of their partnership\, placed in its pers
 onal and historical context. Through facts rather than speculation\, we'll
  explore why this talented physicist has been largely erased from history
 —and what her story reveals about how we remember scientific achievement
 .\n\nhttps://indico.ifj.edu.pl/event/1560/
URL:https://indico.ifj.edu.pl/event/1560/
END:VEVENT
END:VCALENDAR
