BEGIN:VCALENDAR
VERSION:2.0
PRODID:-//CERN//INDICO//EN
BEGIN:VEVENT
SUMMARY:Test
DTSTART:20260310T090000Z
DTEND:20260310T110000Z
DTSTAMP:20260422T162900Z
UID:indico-event-1558@indico.ifj.edu.pl
DESCRIPTION:https://indico.ifj.edu.pl/event/1558/
URL:https://indico.ifj.edu.pl/event/1558/
END:VEVENT
END:VCALENDAR
